BEGIN:VCALENDAR
VERSION:2.0
PRODID:-//Taiko South West - ECPv6.15.12.2//NONSGML v1.0//EN
CALSCALE:GREGORIAN
METHOD:PUBLISH
X-WR-CALNAME:Taiko South West
X-ORIGINAL-URL:https://www.taikosouthwest.org.uk
X-WR-CALDESC:Events for Taiko South West
REFRESH-INTERVAL;VALUE=DURATION:PT1H
X-Robots-Tag:noindex
X-PUBLISHED-TTL:PT1H
BEGIN:VTIMEZONE
TZID:Europe/London
BEGIN:DAYLIGHT
TZOFFSETFROM:+0000
TZOFFSETTO:+0100
TZNAME:BST
DTSTART:20230326T010000
END:DAYLIGHT
BEGIN:STANDARD
TZOFFSETFROM:+0100
TZOFFSETTO:+0000
TZNAME:GMT
DTSTART:20231029T010000
END:STANDARD
BEGIN:DAYLIGHT
TZOFFSETFROM:+0000
TZOFFSETTO:+0100
TZNAME:BST
DTSTART:20240331T010000
END:DAYLIGHT
BEGIN:STANDARD
TZOFFSETFROM:+0100
TZOFFSETTO:+0000
TZNAME:GMT
DTSTART:20241027T010000
END:STANDARD
BEGIN:DAYLIGHT
TZOFFSETFROM:+0000
TZOFFSETTO:+0100
TZNAME:BST
DTSTART:20250330T010000
END:DAYLIGHT
BEGIN:STANDARD
TZOFFSETFROM:+0100
TZOFFSETTO:+0000
TZNAME:GMT
DTSTART:20251026T010000
END:STANDARD
END:VTIMEZONE
BEGIN:VEVENT
DTSTART;TZID=Europe/London:20240701T100000
DTEND;TZID=Europe/London:20240701T110000
DTSTAMP:20260425T210802
CREATED:20240107T195608Z
LAST-MODIFIED:20240311T165412Z
UID:10001101-1719828000-1719831600@www.taikosouthwest.org.uk
SUMMARY:Drum for Fun
DESCRIPTION:Monday 10.00 – 11.00am\, £8.00 per person. \nStart your week with a bang with our drop-in class on Monday mornings. A fun session aimed at those who have played taiko before\, come as often or as little as you like. Cash or card payment on the day.
URL:https://www.taikosouthwest.org.uk/event/drum-for-fun-10-2/2024-07-01/
END:VEVENT
BEGIN:VEVENT
DTSTART;TZID=Europe/London:20240704T181500
DTEND;TZID=Europe/London:20240704T191500
DTSTAMP:20260425T210802
CREATED:20240425T143428Z
LAST-MODIFIED:20240425T143428Z
UID:10001137-1720116900-1720120500@www.taikosouthwest.org.uk
SUMMARY:Next Step Course
DESCRIPTION:Next Step Course\nThursday 20th June – Thursday 25th July \, 6.15 – 7.15pm\n£50 per person\, 18yrs+ \nThis 6-week course is for those who’ve consistently done at least 12 months of Monday drop-in sessions and would like to take their taiko playing to the next level. Over the 6 weeks participants will learn a fun taiko piece\, as well as enjoy a range of drills. Participants must be able to attend at least 4 out of the 6 sessions. Please book in advance by emailing hello@taikosouthwest.org.uk.
URL:https://www.taikosouthwest.org.uk/event/next-step-course-2/2024-07-04/
END:VEVENT
BEGIN:VEVENT
DTSTART;TZID=Europe/London:20240706T143000
DTEND;TZID=Europe/London:20240706T153000
DTSTAMP:20260425T210802
CREATED:20240614T101930Z
LAST-MODIFIED:20240614T101930Z
UID:10001147-1720276200-1720279800@www.taikosouthwest.org.uk
SUMMARY:Tano Taiko at the Mix
DESCRIPTION:Tano Taiko at The MixSaturday 6th July\, 2.30pm\n\nThe Mix is a free event taking place at Bridwell Park Estate run by Devon & Torbay Music Education Hubs on Saturday 6th July\, 11am – 5pm. Tano will be performing at 2.30pm\, followed by have a go sessions for the crowd. Also\, Taiko South West will be running free taiko workshops at 11am\, 12pm & 1.30pm. For more information please click here.
URL:https://www.taikosouthwest.org.uk/event/tano-taiko-at-the-mix/
END:VEVENT
BEGIN:VEVENT
DTSTART;TZID=Europe/London:20240706T183000
DTEND;TZID=Europe/London:20240706T190000
DTSTAMP:20260425T210802
CREATED:20240423T143013Z
LAST-MODIFIED:20240423T143013Z
UID:10001128-1720290600-1720292400@www.taikosouthwest.org.uk
SUMMARY:Tano Taiko at Ashburton Carnival
DESCRIPTION:Tano Taiko at Ashburton Carnival\nSaturday 6th July\, 6.30pm \nAs part of the 2024 Ashburton Carnival Tano Taiko will be performing on North Street at around 6.30pm as (stationary) part of the Carnival procession on Saturday 6th July.
URL:https://www.taikosouthwest.org.uk/event/tano-taiko-at-ashburton-carnival/
END:VEVENT
BEGIN:VEVENT
DTSTART;TZID=Europe/London:20240708T100000
DTEND;TZID=Europe/London:20240708T110000
DTSTAMP:20260425T210802
CREATED:20240107T195608Z
LAST-MODIFIED:20240311T165412Z
UID:10001102-1720432800-1720436400@www.taikosouthwest.org.uk
SUMMARY:Drum for Fun
DESCRIPTION:Monday 10.00 – 11.00am\, £8.00 per person. \nStart your week with a bang with our drop-in class on Monday mornings. A fun session aimed at those who have played taiko before\, come as often or as little as you like. Cash or card payment on the day.
URL:https://www.taikosouthwest.org.uk/event/drum-for-fun-10-2/2024-07-08/
END:VEVENT
BEGIN:VEVENT
DTSTART;TZID=Europe/London:20240711T181500
DTEND;TZID=Europe/London:20240711T191500
DTSTAMP:20260425T210802
CREATED:20240425T143428Z
LAST-MODIFIED:20240425T143428Z
UID:10001138-1720721700-1720725300@www.taikosouthwest.org.uk
SUMMARY:Next Step Course
DESCRIPTION:Next Step Course\nThursday 20th June – Thursday 25th July \, 6.15 – 7.15pm\n£50 per person\, 18yrs+ \nThis 6-week course is for those who’ve consistently done at least 12 months of Monday drop-in sessions and would like to take their taiko playing to the next level. Over the 6 weeks participants will learn a fun taiko piece\, as well as enjoy a range of drills. Participants must be able to attend at least 4 out of the 6 sessions. Please book in advance by emailing hello@taikosouthwest.org.uk.
URL:https://www.taikosouthwest.org.uk/event/next-step-course-2/2024-07-11/
END:VEVENT
BEGIN:VEVENT
DTSTART;TZID=Europe/London:20240713T130000
DTEND;TZID=Europe/London:20240713T133000
DTSTAMP:20260425T210802
CREATED:20240513T110043Z
LAST-MODIFIED:20240513T110043Z
UID:10001143-1720875600-1720877400@www.taikosouthwest.org.uk
SUMMARY:Tano Taiko at Abbotskerswell Primary School Summer Fair
DESCRIPTION:Tano Taiko at Abbotskerswell Primary School Summer Fair\nSaturday 13th July\, 1.00pm \nTano Taiko will be performing at Abbotskerswell Primary School Summer Fair on Saturday 13th July with one set at 1pm followed by have a go sessions.
URL:https://www.taikosouthwest.org.uk/event/tano-taiko-at-abbotskerswell-primary-school-summer-fair/
END:VEVENT
BEGIN:VEVENT
DTSTART;TZID=Europe/London:20240713T143000
DTEND;TZID=Europe/London:20240713T160000
DTSTAMP:20260425T210802
CREATED:20240610T163519Z
LAST-MODIFIED:20240610T163928Z
UID:10001146-1720881000-1720886400@www.taikosouthwest.org.uk
SUMMARY:Tano Taiko at Party in the Park
DESCRIPTION:Tano Taiko at Party in the Park\nSaturday 13th July\, 2.30pm\nCourtenay Park\, Newton Abbot \nTano Taiko will be performing at Party in the Park in Courtenay Park in Newton Abbot on Saturday 13th July. They’ll be drumming to get everyone ready for the wheelbarrow race at 2.30pm then at 3.30pm perform one set  followed by have a go sessions. For more information about Party in the Park please click here.
URL:https://www.taikosouthwest.org.uk/event/tano-taiko-at-abbotskerswell-primary-school-summer-fair-2/
END:VEVENT
BEGIN:VEVENT
DTSTART;TZID=Europe/London:20240715T100000
DTEND;TZID=Europe/London:20240715T110000
DTSTAMP:20260425T210802
CREATED:20240107T195608Z
LAST-MODIFIED:20240311T165412Z
UID:10001103-1721037600-1721041200@www.taikosouthwest.org.uk
SUMMARY:Drum for Fun
DESCRIPTION:Monday 10.00 – 11.00am\, £8.00 per person. \nStart your week with a bang with our drop-in class on Monday mornings. A fun session aimed at those who have played taiko before\, come as often or as little as you like. Cash or card payment on the day.
URL:https://www.taikosouthwest.org.uk/event/drum-for-fun-10-2/2024-07-15/
END:VEVENT
BEGIN:VEVENT
DTSTART;TZID=Europe/London:20240718T181500
DTEND;TZID=Europe/London:20240718T191500
DTSTAMP:20260425T210802
CREATED:20240425T143428Z
LAST-MODIFIED:20240425T143428Z
UID:10001139-1721326500-1721330100@www.taikosouthwest.org.uk
SUMMARY:Next Step Course
DESCRIPTION:Next Step Course\nThursday 20th June – Thursday 25th July \, 6.15 – 7.15pm\n£50 per person\, 18yrs+ \nThis 6-week course is for those who’ve consistently done at least 12 months of Monday drop-in sessions and would like to take their taiko playing to the next level. Over the 6 weeks participants will learn a fun taiko piece\, as well as enjoy a range of drills. Participants must be able to attend at least 4 out of the 6 sessions. Please book in advance by emailing hello@taikosouthwest.org.uk.
URL:https://www.taikosouthwest.org.uk/event/next-step-course-2/2024-07-18/
END:VEVENT
BEGIN:VEVENT
DTSTART;TZID=Europe/London:20240720T100000
DTEND;TZID=Europe/London:20240720T123000
DTSTAMP:20260425T210802
CREATED:20240425T142642Z
LAST-MODIFIED:20240714T115256Z
UID:10001134-1721469600-1721478600@www.taikosouthwest.org.uk
SUMMARY:Taste of Taiko Workshop
DESCRIPTION:Taste of Taiko Workshop\nSaturday 20th July\n10.00am – 12.30pm\, £20 per person. Suitable for those 18yrs+ \nOur Taste of Taiko workshops are the perfect introduction to taiko drumming. A fun and exciting session will give you an overview of taiko\, a chance to get to grips with the basics and fundamentals as well as learning some simple melody patterns. This workshop is suitable for complete beginners aged 18 and up. Places need to be booked in advance please. To book please email hello@taikosouthwest.org.uk. Please check your spam & junk folders as sometimes our replies end up there\, our preferred method of payment is via BACS so on confirming your booking we’ll provide you with our bank details.
URL:https://www.taikosouthwest.org.uk/event/taste-of-taiko-workshop-9/
END:VEVENT
BEGIN:VEVENT
DTSTART;TZID=Europe/London:20240722T100000
DTEND;TZID=Europe/London:20240722T110000
DTSTAMP:20260425T210802
CREATED:20240107T195608Z
LAST-MODIFIED:20240311T165412Z
UID:10001104-1721642400-1721646000@www.taikosouthwest.org.uk
SUMMARY:Drum for Fun
DESCRIPTION:Monday 10.00 – 11.00am\, £8.00 per person. \nStart your week with a bang with our drop-in class on Monday mornings. A fun session aimed at those who have played taiko before\, come as often or as little as you like. Cash or card payment on the day.
URL:https://www.taikosouthwest.org.uk/event/drum-for-fun-10-2/2024-07-22/
END:VEVENT
BEGIN:VEVENT
DTSTART;TZID=Europe/London:20240725T181500
DTEND;TZID=Europe/London:20240725T191500
DTSTAMP:20260425T210802
CREATED:20240425T143428Z
LAST-MODIFIED:20240425T143428Z
UID:10001140-1721931300-1721934900@www.taikosouthwest.org.uk
SUMMARY:Next Step Course
DESCRIPTION:Next Step Course\nThursday 20th June – Thursday 25th July \, 6.15 – 7.15pm\n£50 per person\, 18yrs+ \nThis 6-week course is for those who’ve consistently done at least 12 months of Monday drop-in sessions and would like to take their taiko playing to the next level. Over the 6 weeks participants will learn a fun taiko piece\, as well as enjoy a range of drills. Participants must be able to attend at least 4 out of the 6 sessions. Please book in advance by emailing hello@taikosouthwest.org.uk.
URL:https://www.taikosouthwest.org.uk/event/next-step-course-2/2024-07-25/
END:VEVENT
BEGIN:VEVENT
DTSTART;TZID=Europe/London:20240727T143000
DTEND;TZID=Europe/London:20240727T153000
DTSTAMP:20260425T210802
CREATED:20240423T143557Z
LAST-MODIFIED:20240423T143720Z
UID:10001129-1722090600-1722094200@www.taikosouthwest.org.uk
SUMMARY:Tano Taiko at Axmouth Village Show
DESCRIPTION:Tano Taiko at Axmouth Village Show\nSaturday 27th July\, 2.40pm \nTano Taiko are excited to be part of this year’s Axmouth Show on Saturday 27th July. They’ll be performing one set at 2.40pm followed by free have a go sessions for the crowd. To find out more about the Show please click here.
URL:https://www.taikosouthwest.org.uk/event/tano-taiko-at-axmouth-village-show/
END:VEVENT
BEGIN:VEVENT
DTSTART;TZID=Europe/London:20240728T120000
DTEND;TZID=Europe/London:20240728T130000
DTSTAMP:20260425T210802
CREATED:20240423T144112Z
LAST-MODIFIED:20240423T144308Z
UID:10001130-1722168000-1722171600@www.taikosouthwest.org.uk
SUMMARY:Tano Taiko at Natural Seaton Festival
DESCRIPTION:Tano Taiko at Natural Seaton Festival\nSunday 28th July\, 12.00pm\nSeaton Amphitheatre \nTano are very excited to be back at the Seaton Natural Festival again this year. They’ll be performing a 25-minute set followed by have a go sessions in the Seaton Amphitheatre on Sunday 28th July at 12pm. To find out more about the Festival please click here.
URL:https://www.taikosouthwest.org.uk/event/tano-taiko-at-seaton-natural-festival/
END:VEVENT
BEGIN:VEVENT
DTSTART;TZID=Europe/London:20240729T080000
DTEND;TZID=Europe/London:20240729T170000
DTSTAMP:20260425T210802
CREATED:20240725T124532Z
LAST-MODIFIED:20250722T154418Z
UID:10001315-1722240000-1722272400@www.taikosouthwest.org.uk
SUMMARY:Drum for Fundamentals
DESCRIPTION:Drum for Fundamentals\nMondays\, 11.15am – 12.15pm\n£8 per person \nPlease note this session is only for those who have attended regularly. If you have not been to a session for a while please email hello@taikosouthwest.org.uk. \nThis session is currently open to anyone who has attended on a previous occasion this year\, including relative beginners and those who have been playing a while and wish to build their confidence with taiko fundamentals. We’ll play some skill-building drills and elements of repertoire\, with the focus on enjoying playing together\, whatever our experience. Come as much or as little as you like. £8 per person and fine to pay in cash or card on the day. Not suitable for complete beginners.
URL:https://www.taikosouthwest.org.uk/event/drum-for-fundamentals-2-2/2024-07-29/1/
END:VEVENT
BEGIN:VEVENT
DTSTART;TZID=Europe/London:20240729T100000
DTEND;TZID=Europe/London:20240729T110000
DTSTAMP:20260425T210802
CREATED:20240725T124746Z
LAST-MODIFIED:20250722T154526Z
UID:10001180-1722247200-1722250800@www.taikosouthwest.org.uk
SUMMARY:Drum for Fun
DESCRIPTION:Drum for Fun\nMonday 10.00 – 11.00am\n£8.00 per person. \nPlease note this session is only for those who have attended regularly. If you have not been to a session for a while please email hello@taikosouthwest.org.uk to check availability. \nStart your week with a bang with our drop-in class on Monday mornings. A fun session aimed at those who have attended a Drum for Fun session before\, come as often or as little as you like. Cash or card payment on the day. This session is not suitable for complete beginners.
URL:https://www.taikosouthwest.org.uk/event/drum-for-fun-10-2-2/2024-07-29/
END:VEVENT
BEGIN:VEVENT
DTSTART;TZID=Europe/London:20240729T111500
DTEND;TZID=Europe/London:20240729T121500
DTSTAMP:20260425T210802
CREATED:20240725T124532Z
LAST-MODIFIED:20250722T154418Z
UID:10001189-1722251700-1722255300@www.taikosouthwest.org.uk
SUMMARY:Drum for Fundamentals
DESCRIPTION:Drum for Fundamentals\nMondays\, 11.15am – 12.15pm\n£8 per person \nPlease note this session is only for those who have attended regularly. If you have not been to a session for a while please email hello@taikosouthwest.org.uk. \nThis session is currently open to anyone who has attended on a previous occasion this year\, including relative beginners and those who have been playing a while and wish to build their confidence with taiko fundamentals. We’ll play some skill-building drills and elements of repertoire\, with the focus on enjoying playing together\, whatever our experience. Come as much or as little as you like. £8 per person and fine to pay in cash or card on the day. Not suitable for complete beginners.
URL:https://www.taikosouthwest.org.uk/event/drum-for-fundamentals-2-2/2024-07-29/2/
END:VEVENT
BEGIN:VEVENT
DTSTART;TZID=Europe/London:20240729T190000
DTEND;TZID=Europe/London:20240729T200000
DTSTAMP:20260425T210802
CREATED:20240725T114125Z
LAST-MODIFIED:20250925T150808Z
UID:10001188-1722279600-1722283200@www.taikosouthwest.org.uk
SUMMARY:Monday Night Taiko
DESCRIPTION:Monday Night Taiko\, 7 – 8pm\, £8.00 per person. \nShake off Monday with our exciting hour-long class aimed at beginners (aged 18+)\, come as often or as little as you like. No need to book\, cash or card payment is fine on the day.
URL:https://www.taikosouthwest.org.uk/event/monday-night-taiko-10-2/2024-07-29/
END:VEVENT
END:VCALENDAR