BEGIN:VCALENDAR
VERSION:2.0
PRODID:-//Taiko South West - ECPv6.15.12.2//NONSGML v1.0//EN
CALSCALE:GREGORIAN
METHOD:PUBLISH
X-ORIGINAL-URL:https://www.taikosouthwest.org.uk
X-WR-CALDESC:Events for Taiko South West
REFRESH-INTERVAL;VALUE=DURATION:PT1H
X-Robots-Tag:noindex
X-PUBLISHED-TTL:PT1H
BEGIN:VTIMEZONE
TZID:Europe/London
BEGIN:DAYLIGHT
TZOFFSETFROM:+0000
TZOFFSETTO:+0100
TZNAME:BST
DTSTART:20230326T010000
END:DAYLIGHT
BEGIN:STANDARD
TZOFFSETFROM:+0100
TZOFFSETTO:+0000
TZNAME:GMT
DTSTART:20231029T010000
END:STANDARD
BEGIN:DAYLIGHT
TZOFFSETFROM:+0000
TZOFFSETTO:+0100
TZNAME:BST
DTSTART:20240331T010000
END:DAYLIGHT
BEGIN:STANDARD
TZOFFSETFROM:+0100
TZOFFSETTO:+0000
TZNAME:GMT
DTSTART:20241027T010000
END:STANDARD
BEGIN:DAYLIGHT
TZOFFSETFROM:+0000
TZOFFSETTO:+0100
TZNAME:BST
DTSTART:20250330T010000
END:DAYLIGHT
BEGIN:STANDARD
TZOFFSETFROM:+0100
TZOFFSETTO:+0000
TZNAME:GMT
DTSTART:20251026T010000
END:STANDARD
END:VTIMEZONE
BEGIN:VEVENT
DTSTART;TZID=Europe/London:20240901T103000
DTEND;TZID=Europe/London:20240901T170000
DTSTAMP:20260425T174646
CREATED:20240423T150112Z
LAST-MODIFIED:20240423T150319Z
UID:10001133-1725186600-1725210000@www.taikosouthwest.org.uk
SUMMARY:Tano Taiko at Uffculme Show
DESCRIPTION:Tano Taiko at Uffculme Show\nSunday 1st September\, Bridwell Park \nA lovely day out for all the family\, Tano will be performing two sets throughout the day (times TBC) and free have a go sessions for the crowd. For more information about the Show please click here.
URL:https://www.taikosouthwest.org.uk/event/tano-taiko-at-uffculme-show-2/
END:VEVENT
BEGIN:VEVENT
DTSTART;TZID=Europe/London:20240905T181500
DTEND;TZID=Europe/London:20240905T191500
DTSTAMP:20260425T174646
CREATED:20240725T114530Z
LAST-MODIFIED:20240725T114850Z
UID:10001171-1725560100-1725563700@www.taikosouthwest.org.uk
SUMMARY:Next Step Course
DESCRIPTION:Next Step Course\nThursday 5th September – Thursday 17th October \, 6.15 – 7.15pm\n£60 per person\, 18yrs+ \nThis 7-week course is for those who’ve consistently done at least 12 months of Monday drop-in sessions and would like to take their taiko playing to the next level. Over the 7 weeks participants will learn a fun taiko piece\, as well as enjoy a range of drills. Participants must be able to attend at least 5 out of the 6 sessions. Please book in advance by emailing hello@taikosouthwest.org.uk.
URL:https://www.taikosouthwest.org.uk/event/next-step-course-3/2024-09-05/
END:VEVENT
BEGIN:VEVENT
DTSTART;TZID=Europe/London:20240907T100000
DTEND;TZID=Europe/London:20240907T130000
DTSTAMP:20260425T174646
CREATED:20240620T161415Z
LAST-MODIFIED:20240620T161415Z
UID:10001148-1725703200-1725714000@www.taikosouthwest.org.uk
SUMMARY:September Social Spectacular
DESCRIPTION:September Social Spectacular\nSaturday 7th September\, 10am – 1pm\n£10.50 per person\n\nThere’ll be no Winter Beats concert this year but we still wanted to create an opportunity for people to celebrate everything that happens at the Taiko Centre.\n\nOn Saturday 7th September Taiko South West will host a September Social Spectacular. Lucy will lead a taiko session from 10am – 11.30am then we’ll do half an hour of joint ‘performances’ where anyone who knows the pieces below will get to play them for everyone else.\n• Ogi Matsuri• Shimabayashi• Frantic• Hero• Song with a Heart of its Own• Tilting at Windmills\n\nThen once the playing is done please bring a picnic lunch to enjoy (hopefully outside!) altogether.\nWe are using this Spectacular as an opportunity to raise money for the Taiko Centre so there will also be a raffle therefore if any of you have any prizes to donate please get in touch with Lucy.\n\nWe’re going to run all of this in the Taiko Centre\, rather than down in the Quad\, so that it’s not weather dependent. We won’t limit numbers but it would be great to have a rough idea so please can you let me know if you can attend by Monday 19th August\, hello@taikosouthwest.org.uk.
URL:https://www.taikosouthwest.org.uk/event/september-social-spectacular/
END:VEVENT
BEGIN:VEVENT
DTSTART;TZID=Europe/London:20240912T181500
DTEND;TZID=Europe/London:20240912T191500
DTSTAMP:20260425T174646
CREATED:20240725T114530Z
LAST-MODIFIED:20240725T114850Z
UID:10001173-1726164900-1726168500@www.taikosouthwest.org.uk
SUMMARY:Next Step Course
DESCRIPTION:Next Step Course\nThursday 5th September – Thursday 17th October \, 6.15 – 7.15pm\n£60 per person\, 18yrs+ \nThis 7-week course is for those who’ve consistently done at least 12 months of Monday drop-in sessions and would like to take their taiko playing to the next level. Over the 7 weeks participants will learn a fun taiko piece\, as well as enjoy a range of drills. Participants must be able to attend at least 5 out of the 6 sessions. Please book in advance by emailing hello@taikosouthwest.org.uk.
URL:https://www.taikosouthwest.org.uk/event/next-step-course-3/2024-09-12/
END:VEVENT
BEGIN:VEVENT
DTSTART;TZID=Europe/London:20240919T181500
DTEND;TZID=Europe/London:20240919T191500
DTSTAMP:20260425T174646
CREATED:20240725T114530Z
LAST-MODIFIED:20240725T114850Z
UID:10001174-1726769700-1726773300@www.taikosouthwest.org.uk
SUMMARY:Next Step Course
DESCRIPTION:Next Step Course\nThursday 5th September – Thursday 17th October \, 6.15 – 7.15pm\n£60 per person\, 18yrs+ \nThis 7-week course is for those who’ve consistently done at least 12 months of Monday drop-in sessions and would like to take their taiko playing to the next level. Over the 7 weeks participants will learn a fun taiko piece\, as well as enjoy a range of drills. Participants must be able to attend at least 5 out of the 6 sessions. Please book in advance by emailing hello@taikosouthwest.org.uk.
URL:https://www.taikosouthwest.org.uk/event/next-step-course-3/2024-09-19/
END:VEVENT
BEGIN:VEVENT
DTSTART;TZID=Europe/London:20240921T100000
DTEND;TZID=Europe/London:20240921T123000
DTSTAMP:20260425T174646
CREATED:20240610T151413Z
LAST-MODIFIED:20240913T090531Z
UID:10001144-1726912800-1726921800@www.taikosouthwest.org.uk
SUMMARY:Taste of Taiko Workshop
DESCRIPTION:Taste of Taiko Workshop\nSaturday 21st September\n10.00am – 12.30pm\, £20 per person. Suitable for those 18yrs+ \nOur Taste of Taiko workshops are the perfect introduction to taiko drumming. A fun and exciting session will give you an overview of taiko\, a chance to get to grips with the basics and fundamentals as well as learning some simple melody patterns. This workshop is suitable for complete beginners aged 18 and up. Places need to be booked in advance please. To book please email hello@taikosouthwest.org.uk. Please check your spam & junk folders as sometimes our replies end up there\, our preferred method of payment is via BACS so on confirming your booking we’ll provide you with our bank details.
URL:https://www.taikosouthwest.org.uk/event/taste-of-taiko-workshop-10/
END:VEVENT
BEGIN:VEVENT
DTSTART;TZID=Europe/London:20240926T181500
DTEND;TZID=Europe/London:20240926T191500
DTSTAMP:20260425T174646
CREATED:20240725T114530Z
LAST-MODIFIED:20240725T114850Z
UID:10001175-1727374500-1727378100@www.taikosouthwest.org.uk
SUMMARY:Next Step Course
DESCRIPTION:Next Step Course\nThursday 5th September – Thursday 17th October \, 6.15 – 7.15pm\n£60 per person\, 18yrs+ \nThis 7-week course is for those who’ve consistently done at least 12 months of Monday drop-in sessions and would like to take their taiko playing to the next level. Over the 7 weeks participants will learn a fun taiko piece\, as well as enjoy a range of drills. Participants must be able to attend at least 5 out of the 6 sessions. Please book in advance by emailing hello@taikosouthwest.org.uk.
URL:https://www.taikosouthwest.org.uk/event/next-step-course-3/2024-09-26/
END:VEVENT
END:VCALENDAR