BEGIN:VCALENDAR
VERSION:2.0
PRODID:-//Taiko South West - ECPv6.15.12.2//NONSGML v1.0//EN
CALSCALE:GREGORIAN
METHOD:PUBLISH
X-ORIGINAL-URL:https://www.taikosouthwest.org.uk
X-WR-CALDESC:Events for Taiko South West
REFRESH-INTERVAL;VALUE=DURATION:PT1H
X-Robots-Tag:noindex
X-PUBLISHED-TTL:PT1H
BEGIN:VTIMEZONE
TZID:Europe/London
BEGIN:DAYLIGHT
TZOFFSETFROM:+0000
TZOFFSETTO:+0100
TZNAME:BST
DTSTART:20230326T010000
END:DAYLIGHT
BEGIN:STANDARD
TZOFFSETFROM:+0100
TZOFFSETTO:+0000
TZNAME:GMT
DTSTART:20231029T010000
END:STANDARD
BEGIN:DAYLIGHT
TZOFFSETFROM:+0000
TZOFFSETTO:+0100
TZNAME:BST
DTSTART:20240331T010000
END:DAYLIGHT
BEGIN:STANDARD
TZOFFSETFROM:+0100
TZOFFSETTO:+0000
TZNAME:GMT
DTSTART:20241027T010000
END:STANDARD
BEGIN:DAYLIGHT
TZOFFSETFROM:+0000
TZOFFSETTO:+0100
TZNAME:BST
DTSTART:20250330T010000
END:DAYLIGHT
BEGIN:STANDARD
TZOFFSETFROM:+0100
TZOFFSETTO:+0000
TZNAME:GMT
DTSTART:20251026T010000
END:STANDARD
END:VTIMEZONE
BEGIN:VEVENT
DTSTART;TZID=Europe/London:20241003T181500
DTEND;TZID=Europe/London:20241003T191500
DTSTAMP:20260425T161043
CREATED:20240725T114530Z
LAST-MODIFIED:20240725T114850Z
UID:10001176-1727979300-1727982900@www.taikosouthwest.org.uk
SUMMARY:Next Step Course
DESCRIPTION:Next Step Course\nThursday 5th September – Thursday 17th October \, 6.15 – 7.15pm\n£60 per person\, 18yrs+ \nThis 7-week course is for those who’ve consistently done at least 12 months of Monday drop-in sessions and would like to take their taiko playing to the next level. Over the 7 weeks participants will learn a fun taiko piece\, as well as enjoy a range of drills. Participants must be able to attend at least 5 out of the 6 sessions. Please book in advance by emailing hello@taikosouthwest.org.uk.
URL:https://www.taikosouthwest.org.uk/event/next-step-course-3/2024-10-03/
END:VEVENT
BEGIN:VEVENT
DTSTART;TZID=Europe/London:20241005T100000
DTEND;TZID=Europe/London:20241005T130000
DTSTAMP:20260425T161043
CREATED:20240610T152642Z
LAST-MODIFIED:20240725T110721Z
UID:10001145-1728122400-1728133200@www.taikosouthwest.org.uk
SUMMARY:Skills & Drills
DESCRIPTION:Skills & Drills\nSaturday 05th October\n10.00am – 1.00pm\, £25 per person (18yrs+)  \nBack in a new format\, this 3-hour skills and drills workshop is suitable for anyone who’s played taiko before and would enjoy a morning doing a range of different drills\, on different drums\, as well as learning parts of repertoire not currently covered in our weekly sessions\, Please book in advance by emailing hello@taikosouthwest.org.uk. Our preferred method of payment is via BACS so on confirming your booking we’ll provide you with our bank details. This workshop is not suitable for beginners.
URL:https://www.taikosouthwest.org.uk/event/taiko-day/
END:VEVENT
BEGIN:VEVENT
DTSTART;TZID=Europe/London:20241010T181500
DTEND;TZID=Europe/London:20241010T191500
DTSTAMP:20260425T161043
CREATED:20240725T114530Z
LAST-MODIFIED:20240725T114850Z
UID:10001177-1728584100-1728587700@www.taikosouthwest.org.uk
SUMMARY:Next Step Course
DESCRIPTION:Next Step Course\nThursday 5th September – Thursday 17th October \, 6.15 – 7.15pm\n£60 per person\, 18yrs+ \nThis 7-week course is for those who’ve consistently done at least 12 months of Monday drop-in sessions and would like to take their taiko playing to the next level. Over the 7 weeks participants will learn a fun taiko piece\, as well as enjoy a range of drills. Participants must be able to attend at least 5 out of the 6 sessions. Please book in advance by emailing hello@taikosouthwest.org.uk.
URL:https://www.taikosouthwest.org.uk/event/next-step-course-3/2024-10-10/
END:VEVENT
BEGIN:VEVENT
DTSTART;TZID=Europe/London:20241013T110000
DTEND;TZID=Europe/London:20241013T130000
DTSTAMP:20260425T161043
CREATED:20240808T135200Z
LAST-MODIFIED:20240808T135200Z
UID:10001198-1728817200-1728824400@www.taikosouthwest.org.uk
SUMMARY:Taste of Taiko Workshop at Calstock Arts
DESCRIPTION:Taste of Taiko Workshop at Calstock Arts\nSunday 13th October\n11.00am – 1.00pm\, from £15 \nBased in the stunning location of Calsotck Arts this beginner workshop is suitable for those aged 12yrs+ who would like to learn the basics & fundamentals of taiko drumming\, a bit about it’s background and learn a fun piece to play altogether by the end of the workshop. Taiko is a lot of fun\, physical and a great challenge for anyone wanting to try something new. Tickets available directly from Calstock Art’s website. \nThen after the workshop\, Taiko South West’s main performing group\, Tano Taiko will be performing a concert from 2.45 – 4.15pm. You can book onto the workshop and buy tickets for the show all from here.
URL:https://www.taikosouthwest.org.uk/event/taste-of-taiko-workshop-at-calstock-arts/
END:VEVENT
BEGIN:VEVENT
DTSTART;TZID=Europe/London:20241013T144500
DTEND;TZID=Europe/London:20241013T161500
DTSTAMP:20260425T161043
CREATED:20240808T134648Z
LAST-MODIFIED:20240808T135319Z
UID:10001197-1728830700-1728836100@www.taikosouthwest.org.uk
SUMMARY:Tano Taiko at Calstock Arts
DESCRIPTION:Tano Taiko at Calstock Arts\nSunday 13th October\n2.45pm\, £12 \nTano Taiko will be performing a show consisting of two 25-minute sets at Calstock Arts on Sunday 13th October. Do not miss this chance to see Tano play in a stunning venue! Tickets available now from Calstock Art’s website. \nIn the morning before the performance\, Taiko South West will be running one of our Taste of Taiko beginner workshops. Find out more here.
URL:https://www.taikosouthwest.org.uk/event/tano-taiko-at-calstock-arts/
END:VEVENT
BEGIN:VEVENT
DTSTART;TZID=Europe/London:20241017T181500
DTEND;TZID=Europe/London:20241017T191500
DTSTAMP:20260425T161043
CREATED:20240725T114530Z
LAST-MODIFIED:20240725T114850Z
UID:10001178-1729188900-1729192500@www.taikosouthwest.org.uk
SUMMARY:Next Step Course
DESCRIPTION:Next Step Course\nThursday 5th September – Thursday 17th October \, 6.15 – 7.15pm\n£60 per person\, 18yrs+ \nThis 7-week course is for those who’ve consistently done at least 12 months of Monday drop-in sessions and would like to take their taiko playing to the next level. Over the 7 weeks participants will learn a fun taiko piece\, as well as enjoy a range of drills. Participants must be able to attend at least 5 out of the 6 sessions. Please book in advance by emailing hello@taikosouthwest.org.uk.
URL:https://www.taikosouthwest.org.uk/event/next-step-course-3/2024-10-17/
END:VEVENT
BEGIN:VEVENT
DTSTART;TZID=Europe/London:20241025T100000
DTEND;TZID=Europe/London:20241025T130000
DTSTAMP:20260425T161043
CREATED:20241003T165436Z
LAST-MODIFIED:20241017T143713Z
UID:10001225-1729850400-1729861200@www.taikosouthwest.org.uk
SUMMARY:Teignbridge Taiko for Health and Wellbeing
DESCRIPTION:Teignbridge Taiko for Health and Wellbeing\nFriday 25th October – Friday 29th November\n10.00 – 11.00am or 11.15am – 12.15pm\nRowell Room\, Newton Abbot Museum \nThanks to a grant provided by Teignbridge Arts Project\, (more info here) Taiko South West are able to offer a six week taiko drumming course FREE for adults taking place in Newton Abbot town centre. \nWe will be running the free sessions over six weeks from Friday 25th October to Friday 29th November in the Rowell Room in Newton Abbot Museum in the town centre. There will be two one hour sessions: 10am – 11am or 11.15am – 12.15pm and clients can sign up for either. Ideally we’d like participants to be able to attend at least 4 of the 6 sessions as each week we’ll be building on what they’ve learnt so by the end of the six weeks participants can play something altogether. \nAt TSW\, time and time again\, we witness the benefits of taiko drumming for people’s mental health and wellbeing\, across ages\, gender and abilities. We are very excited that this funding opportunity is\, for the first time\, enabling us to run free taiko sessions in Newton Abbot\, specifically aimed at people using mental health & wellbeing organisations within Teignbridge. Taiko drumming is not only good brain gym\, but also quite physical so ultimately\, it’s a fun activity that requires focus\, providing participants with a welcome break from anything else that might be going on. \nThere are a few stipulations to meet the grant criteria\, \n\nPlaces are limited in each session so people will need to book in advance to avoid disappointment. To book they need to email hello@taikosouthwest.org.uk and let us know which session time and date they would like to attend. They also need to tell us which Teignbridge mental health and wellbeing service they are using.\nParticipants must be 18 years +.\nParticipants must be from Teignbridge and be an active user of a mental health and wellbeing service.\nThere is no need for any prior knowledge of drumming\, or music.\n\nThis project is funded by the UK Government through the UK Shared Prosperity Fund. The UK Shared Prosperity Fund aims to improve pride in place and increase life chances across the UK investing in communities and place\, supporting local business\, and people and skills. For more information\, visit UK Shared Prosperity Fund.
URL:https://www.taikosouthwest.org.uk/event/teignbridge-taiko-for-health-and-wellbeing/2024-10-25/
END:VEVENT
BEGIN:VEVENT
DTSTART;TZID=Europe/London:20241030T190000
DTEND;TZID=Europe/London:20241030T210000
DTSTAMP:20260425T161043
CREATED:20240909T133344Z
LAST-MODIFIED:20240909T133951Z
UID:10001222-1730314800-1730322000@www.taikosouthwest.org.uk
SUMMARY:Shime and Odaiko Workshop
DESCRIPTION:Shime and Odaiko Workshop\nWednesday 30th October\, 7 – 9pm\, £15 \nThis workshop is open to anyone who has played taiko before but not suitable for complete beginners. During this workshop participants will get the opportunity to revisit (or learn) the basics & fundamentals of playing shime & odaiko. \nPlease book in advance by email lucy@taikosouthwest.org.uk.
URL:https://www.taikosouthwest.org.uk/event/shime-and-odaiko-workshop/
END:VEVENT
BEGIN:VEVENT
DTSTART;TZID=Europe/London:20241031T181500
DTEND;TZID=Europe/London:20241031T191500
DTSTAMP:20260425T161043
CREATED:20241007T095940Z
LAST-MODIFIED:20241007T095940Z
UID:10001238-1730398500-1730402100@www.taikosouthwest.org.uk
SUMMARY:Next Step Course
DESCRIPTION:Next Step Course\nThursday 31st October – Thursday 5th December \, 6.15 – 7.15pm\n£50 per person\, 18yrs+ \nThis 6-week course is for those who’ve consistently done at least 12 months of Monday drop-in sessions and would like to take their taiko playing to the next level. Over the 6weeks participants will learn a fun taiko piece\, as well as enjoy a range of drills. Ideally participants need to be able to attend at least 4 out of the 6 sessions. Please book in advance by emailing hello@taikosouthwest.org.uk.
URL:https://www.taikosouthwest.org.uk/event/next-step-course-4/2024-10-31/
END:VEVENT
END:VCALENDAR