BEGIN:VCALENDAR
VERSION:2.0
PRODID:-//Taiko South West - ECPv6.15.12.2//NONSGML v1.0//EN
CALSCALE:GREGORIAN
METHOD:PUBLISH
X-ORIGINAL-URL:https://www.taikosouthwest.org.uk
X-WR-CALDESC:Events for Taiko South West
REFRESH-INTERVAL;VALUE=DURATION:PT1H
X-Robots-Tag:noindex
X-PUBLISHED-TTL:PT1H
BEGIN:VTIMEZONE
TZID:Europe/London
BEGIN:DAYLIGHT
TZOFFSETFROM:+0000
TZOFFSETTO:+0100
TZNAME:BST
DTSTART:20230326T010000
END:DAYLIGHT
BEGIN:STANDARD
TZOFFSETFROM:+0100
TZOFFSETTO:+0000
TZNAME:GMT
DTSTART:20231029T010000
END:STANDARD
BEGIN:DAYLIGHT
TZOFFSETFROM:+0000
TZOFFSETTO:+0100
TZNAME:BST
DTSTART:20240331T010000
END:DAYLIGHT
BEGIN:STANDARD
TZOFFSETFROM:+0100
TZOFFSETTO:+0000
TZNAME:GMT
DTSTART:20241027T010000
END:STANDARD
BEGIN:DAYLIGHT
TZOFFSETFROM:+0000
TZOFFSETTO:+0100
TZNAME:BST
DTSTART:20250330T010000
END:DAYLIGHT
BEGIN:STANDARD
TZOFFSETFROM:+0100
TZOFFSETTO:+0000
TZNAME:GMT
DTSTART:20251026T010000
END:STANDARD
END:VTIMEZONE
BEGIN:VEVENT
DTSTART;TZID=Europe/London:20241205T181500
DTEND;TZID=Europe/London:20241205T191500
DTSTAMP:20260425T124935
CREATED:20241007T095940Z
LAST-MODIFIED:20241007T095940Z
UID:10001243-1733422500-1733426100@www.taikosouthwest.org.uk
SUMMARY:Next Step Course
DESCRIPTION:Next Step Course\nThursday 31st October – Thursday 5th December \, 6.15 – 7.15pm\n£50 per person\, 18yrs+ \nThis 6-week course is for those who’ve consistently done at least 12 months of Monday drop-in sessions and would like to take their taiko playing to the next level. Over the 6weeks participants will learn a fun taiko piece\, as well as enjoy a range of drills. Ideally participants need to be able to attend at least 4 out of the 6 sessions. Please book in advance by emailing hello@taikosouthwest.org.uk.
URL:https://www.taikosouthwest.org.uk/event/next-step-course-4/2024-12-05/
END:VEVENT
BEGIN:VEVENT
DTSTART;TZID=Europe/London:20241207T100000
DTEND;TZID=Europe/London:20241207T120000
DTSTAMP:20260425T124935
CREATED:20240909T083349Z
LAST-MODIFIED:20240909T131819Z
UID:10001221-1733565600-1733572800@www.taikosouthwest.org.uk
SUMMARY:Taiko Centre Social
DESCRIPTION:Taiko Centre Social\nSaturday 7th December 10am – 12pm\n£8 per person\n\nA fun morning of taiko open to those who play regularly at the Taiko Centre\, a chance to meet people from other classes and enjoy taiko altogether. Tea & coffee (provided by Taiko South West) from 10am then taiko from 10.30am – 12.00pm. Fine to drop in the day but helps with planning to know numbers in advance so if you’d like to come please email hello@taikosouthwest.org.uk.
URL:https://www.taikosouthwest.org.uk/event/taiko-centre-social/
END:VEVENT
END:VCALENDAR