BEGIN:VCALENDAR
VERSION:2.0
PRODID:-//Taiko South West - ECPv6.15.12.2//NONSGML v1.0//EN
CALSCALE:GREGORIAN
METHOD:PUBLISH
X-ORIGINAL-URL:https://www.taikosouthwest.org.uk
X-WR-CALDESC:Events for Taiko South West
REFRESH-INTERVAL;VALUE=DURATION:PT1H
X-Robots-Tag:noindex
X-PUBLISHED-TTL:PT1H
BEGIN:VTIMEZONE
TZID:Europe/London
BEGIN:DAYLIGHT
TZOFFSETFROM:+0000
TZOFFSETTO:+0100
TZNAME:BST
DTSTART:20240331T010000
END:DAYLIGHT
BEGIN:STANDARD
TZOFFSETFROM:+0100
TZOFFSETTO:+0000
TZNAME:GMT
DTSTART:20241027T010000
END:STANDARD
BEGIN:DAYLIGHT
TZOFFSETFROM:+0000
TZOFFSETTO:+0100
TZNAME:BST
DTSTART:20250330T010000
END:DAYLIGHT
BEGIN:STANDARD
TZOFFSETFROM:+0100
TZOFFSETTO:+0000
TZNAME:GMT
DTSTART:20251026T010000
END:STANDARD
BEGIN:DAYLIGHT
TZOFFSETFROM:+0000
TZOFFSETTO:+0100
TZNAME:BST
DTSTART:20260329T010000
END:DAYLIGHT
BEGIN:STANDARD
TZOFFSETFROM:+0100
TZOFFSETTO:+0000
TZNAME:GMT
DTSTART:20261025T010000
END:STANDARD
END:VTIMEZONE
BEGIN:VEVENT
DTSTART;TZID=Europe/London:20250201T100000
DTEND;TZID=Europe/London:20250201T130000
DTSTAMP:20260423T144608
CREATED:20241024T121946Z
LAST-MODIFIED:20241121T134116Z
UID:10001249-1738404000-1738414800@www.taikosouthwest.org.uk
SUMMARY:Teignbridge Taiko for Health and Wellbeing
DESCRIPTION:Teignbridge Taiko for Health and Wellbeing\nSaturday 4th January – Saturday 8th February 2025\n10.00 – 11.00am or 11.15am – 12.15pm\nThe Scout Hut\, Newton Abbot  \nThanks to a grant provided by Teignbridge Arts Project\, (more info here) Taiko South West are able to offer a six week taiko drumming course FREE for adults taking place in Newton Abbot town centre. \nWe will be running the free sessions over six weeks from Saturday 4th January – Saturday 8th February at the Scout Hut in Newton Abbot town centre. There will be two one hour sessions: 10am – 11am or 11.15am – 12.15pm and people can sign up for either. Ideally we’d like participants to be able to attend at least 4 of the 6 sessions as each week we’ll be building on what they’ve learnt so by the end of the six weeks participants can play something altogether. \nAt TSW\, time and time again\, we witness the benefits of taiko drumming for people’s mental health and wellbeing\, across ages\, gender and abilities. We are very excited that this funding opportunity is\, for the first time\, enabling us to run free taiko sessions in Newton Abbot\, specifically aimed at people using mental health & wellbeing organisations within Teignbridge. Taiko drumming is not only good brain gym\, but also quite physical so ultimately\, it’s a fun activity that requires focus\, providing participants with a welcome break from anything else that might be going on. \nThere are a few stipulations to meet the grant criteria\, \n\nPlaces are limited in each session so people will need to book in advance to avoid disappointment. To book they need to email hello@taikosouthwest.org.uk and let us know which session time and date they would like to attend. They also need to tell us which Teignbridge mental health and wellbeing service they are using\, or if they’re self-referring.\nParticipants must be 18 years +.\nParticipants must be from Teignbridge and be an active user of a mental health and wellbeing service\, or are self-referring as they know they’ll benefit from the sessions.\nThere is no need for any prior knowledge of drumming\, or music.\n\nThis project is funded by the UK Government through the UK Shared Prosperity Fund. The UK Shared Prosperity Fund aims to improve pride in place and increase life chances across the UK investing in communities and place\, supporting local business\, and people and skills. For more information\, visit UK Shared Prosperity Fund.
URL:https://www.taikosouthwest.org.uk/event/teignbridge-taiko-for-health-and-wellbeing-2/2025-02-01/
END:VEVENT
BEGIN:VEVENT
DTSTART;TZID=Europe/London:20250206T181500
DTEND;TZID=Europe/London:20250206T191500
DTSTAMP:20260423T144608
CREATED:20241118T152713Z
LAST-MODIFIED:20241118T152713Z
UID:10001257-1738865700-1738869300@www.taikosouthwest.org.uk
SUMMARY:Next Step Course
DESCRIPTION:Next Step Course\nThursday 9th January – Thursday 13th February \, 6.15 – 7.15pm\n£50 per person\, 18yrs+ \nThis 6-week course is for those who’ve consistently done at least 12 months of Monday drop-in sessions and would like to take their taiko playing to the next level. Over the 6weeks participants will learn a fun taiko piece\, as well as enjoy a range of drills. Ideally participants need to be able to attend at least 4 out of the 6 sessions. Please book in advance by emailing hello@taikosouthwest.org.uk. Participation is at instructor discretion.
URL:https://www.taikosouthwest.org.uk/event/next-step-course-5/2025-02-06/
END:VEVENT
BEGIN:VEVENT
DTSTART;TZID=Europe/London:20250208T100000
DTEND;TZID=Europe/London:20250208T130000
DTSTAMP:20260423T144608
CREATED:20241024T121946Z
LAST-MODIFIED:20241121T134116Z
UID:10001250-1739008800-1739019600@www.taikosouthwest.org.uk
SUMMARY:Teignbridge Taiko for Health and Wellbeing
DESCRIPTION:Teignbridge Taiko for Health and Wellbeing\nSaturday 4th January – Saturday 8th February 2025\n10.00 – 11.00am or 11.15am – 12.15pm\nThe Scout Hut\, Newton Abbot  \nThanks to a grant provided by Teignbridge Arts Project\, (more info here) Taiko South West are able to offer a six week taiko drumming course FREE for adults taking place in Newton Abbot town centre. \nWe will be running the free sessions over six weeks from Saturday 4th January – Saturday 8th February at the Scout Hut in Newton Abbot town centre. There will be two one hour sessions: 10am – 11am or 11.15am – 12.15pm and people can sign up for either. Ideally we’d like participants to be able to attend at least 4 of the 6 sessions as each week we’ll be building on what they’ve learnt so by the end of the six weeks participants can play something altogether. \nAt TSW\, time and time again\, we witness the benefits of taiko drumming for people’s mental health and wellbeing\, across ages\, gender and abilities. We are very excited that this funding opportunity is\, for the first time\, enabling us to run free taiko sessions in Newton Abbot\, specifically aimed at people using mental health & wellbeing organisations within Teignbridge. Taiko drumming is not only good brain gym\, but also quite physical so ultimately\, it’s a fun activity that requires focus\, providing participants with a welcome break from anything else that might be going on. \nThere are a few stipulations to meet the grant criteria\, \n\nPlaces are limited in each session so people will need to book in advance to avoid disappointment. To book they need to email hello@taikosouthwest.org.uk and let us know which session time and date they would like to attend. They also need to tell us which Teignbridge mental health and wellbeing service they are using\, or if they’re self-referring.\nParticipants must be 18 years +.\nParticipants must be from Teignbridge and be an active user of a mental health and wellbeing service\, or are self-referring as they know they’ll benefit from the sessions.\nThere is no need for any prior knowledge of drumming\, or music.\n\nThis project is funded by the UK Government through the UK Shared Prosperity Fund. The UK Shared Prosperity Fund aims to improve pride in place and increase life chances across the UK investing in communities and place\, supporting local business\, and people and skills. For more information\, visit UK Shared Prosperity Fund.
URL:https://www.taikosouthwest.org.uk/event/teignbridge-taiko-for-health-and-wellbeing-2/2025-02-08/
END:VEVENT
BEGIN:VEVENT
DTSTART;TZID=Europe/London:20250213T181500
DTEND;TZID=Europe/London:20250213T191500
DTSTAMP:20260423T144608
CREATED:20241118T152713Z
LAST-MODIFIED:20241118T152713Z
UID:10001258-1739470500-1739474100@www.taikosouthwest.org.uk
SUMMARY:Next Step Course
DESCRIPTION:Next Step Course\nThursday 9th January – Thursday 13th February \, 6.15 – 7.15pm\n£50 per person\, 18yrs+ \nThis 6-week course is for those who’ve consistently done at least 12 months of Monday drop-in sessions and would like to take their taiko playing to the next level. Over the 6weeks participants will learn a fun taiko piece\, as well as enjoy a range of drills. Ideally participants need to be able to attend at least 4 out of the 6 sessions. Please book in advance by emailing hello@taikosouthwest.org.uk. Participation is at instructor discretion.
URL:https://www.taikosouthwest.org.uk/event/next-step-course-5/2025-02-13/
END:VEVENT
BEGIN:VEVENT
DTSTART;TZID=Europe/London:20250222T103000
DTEND;TZID=Europe/London:20250222T163000
DTSTAMP:20260423T144608
CREATED:20241121T125547Z
LAST-MODIFIED:20241121T125709Z
UID:10001305-1740220200-1740241800@www.taikosouthwest.org.uk
SUMMARY:Taiko Day Retreat
DESCRIPTION:Taiko Day Retreat\nSaturday 22nd February\n10.30am – 4.30pm\, £55 per person (18yrs+)  \nSpend the day learning the basics and fundamentals of this amazing performing art at our fully equipped studio. Blow those cobwebs away with this unique opportunity to re-energise\, re-charge and challenge yourself with something new. \nOur Day Retreats are the perfect way to escape. With no previous experience of taiko necessary\, these days are open to enthusiastic adults of all ages. Our day retreats begin with gentle stretches followed by a day of taiko drumming. Places are just £55 per person\, to book please email hello@taikosouthwest.org.uk. Please check your spam & junk folders as sometimes our replies end up there. \nIncluded in price\, \n\nAll equipment needed for the day\nTea\, coffee & snacks throughout the day\n\nPlease note your booking is confirmed once we’ve received payment and can only be refunded if the workshop is full and we can fill your space from a waiting list.
URL:https://www.taikosouthwest.org.uk/event/taiko-day-retreat-6/
END:VEVENT
BEGIN:VEVENT
DTSTART;TZID=Europe/London:20250226T190000
DTEND;TZID=Europe/London:20250226T203000
DTSTAMP:20260423T144608
CREATED:20241121T131404Z
LAST-MODIFIED:20241125T174344Z
UID:10001306-1740596400-1740601800@www.taikosouthwest.org.uk
SUMMARY:Katsugi Okedo Basics & Fundamentals Workshop
DESCRIPTION:Katsugi Okedo Basics & Fundamentals Workshop\nWednesday 26th February\, 7.00 – 8.30pm\n£12 per person \nKatsugi okedos are drums which the player ‘wears’\, carried by a strap that hangs the drum at an angle in front of the player. It is a completely different way of playing taiko and this workshop will introduce participants to the basics & fundamentals of playing katsugi okedos. Places must be booked in advance and numbers will be limited. This workshop is not suitable for beginners to taiko drumming. To book please email hello@taikosouthwest.org.uk.
URL:https://www.taikosouthwest.org.uk/event/katsugi-okedo-basics-fundamentals-workshop/
END:VEVENT
END:VCALENDAR